BEGIN:VCALENDAR
VERSION:2.0
PRODID:-//St. Patrick&#039;s B.N.S. Portarlington - ECPv4.6.1//NONSGML v1.0//EN
CALSCALE:GREGORIAN
METHOD:PUBLISH
X-WR-CALNAME:St. Patrick&#039;s B.N.S. Portarlington
X-ORIGINAL-URL:http://www.stpatricksbns.ie
X-WR-CALDESC:Events for St. Patrick&#039;s B.N.S. Portarlington
BEGIN:VEVENT
DTSTART;VALUE=DATE:20161107
DTEND;VALUE=DATE:20161223
DTSTAMP:20171030T194902
CREATED:20160906T213641Z
LAST-MODIFIED:20160906T213641Z
UID:855-1478476800-1482451199@www.stpatricksbns.ie
SUMMARY:School Open
DESCRIPTION:
URL:http://www.stpatricksbns.ie/schoolcalendar/school-open-2/
END:VEVENT
BEGIN:VEVENT
DTSTART;TZID=UTC+0:20161216T130000
DTEND;TZID=UTC+0:20161216T140000
DTSTAMP:20171030T194902
CREATED:20161216T093311Z
LAST-MODIFIED:20161216T093311Z
UID:1925-1481893200-1481896800@www.stpatricksbns.ie
SUMMARY:Carol Service
DESCRIPTION:
URL:http://www.stpatricksbns.ie/schoolcalendar/carol-service/
LOCATION:Portarlington\, Ireland
CATEGORIES:School Event
ORGANIZER;CN="St%20Patricks%20BNS%2C%20Portarlington":MAILTO:info@stpatricksbns.ie
END:VEVENT
END:VCALENDAR