BEGIN:VCALENDAR
VERSION:2.0
PRODID:-//St. Patrick&#039;s B.N.S. Portarlington - ECPv4.6.1//NONSGML v1.0//EN
CALSCALE:GREGORIAN
METHOD:PUBLISH
X-WR-CALNAME:St. Patrick&#039;s B.N.S. Portarlington
X-ORIGINAL-URL:http://www.stpatricksbns.ie
X-WR-CALDESC:Events for St. Patrick&#039;s B.N.S. Portarlington
BEGIN:VEVENT
DTSTART;VALUE=DATE:20170109
DTEND;VALUE=DATE:20170223
DTSTAMP:20171030T195139
CREATED:20160906T214337Z
LAST-MODIFIED:20160906T214337Z
UID:859-1483920000-1487807999@www.stpatricksbns.ie
SUMMARY:School Open
DESCRIPTION:
URL:http://www.stpatricksbns.ie/schoolcalendar/school-open-3/
END:VEVENT
END:VCALENDAR